BEGIN:VCALENDAR
VERSION:2.0
PRODID:-//Poland Tastes Good - ECPv6.5.0//NONSGML v1.0//EN
CALSCALE:GREGORIAN
METHOD:PUBLISH
X-WR-CALNAME:Poland Tastes Good
X-ORIGINAL-URL:https://www.polandtastesgood.pl/pl/
X-WR-CALDESC:Wydarzenia dla Poland Tastes Good
REFRESH-INTERVAL;VALUE=DURATION:PT1H
X-Robots-Tag:noindex
X-PUBLISHED-TTL:PT1H
BEGIN:VTIMEZONE
TZID:Europe/Warsaw
BEGIN:DAYLIGHT
TZOFFSETFROM:+0100
TZOFFSETTO:+0200
TZNAME:CEST
DTSTART:20260329T010000
END:DAYLIGHT
BEGIN:STANDARD
TZOFFSETFROM:+0200
TZOFFSETTO:+0100
TZNAME:CET
DTSTART:20261025T010000
END:STANDARD
END:VTIMEZONE
BEGIN:VEVENT
DTSTART;VALUE=DATE:20260420
DTEND;VALUE=DATE:20260429
DTSTAMP:20260424T070800
CREATED:20260317T151329Z
LAST-MODIFIED:20260413T090413Z
UID:35552-1776643200-1777420799@www.polandtastesgood.pl
SUMMARY:SIAM Maroko 2026 – polskie stoisko narodowe
DESCRIPTION:Krajowy Ośrodek Wsparcia Rolnictwa planuje w dniach 20-28 kwietnia 2026 r. organizację polskiego stoiska narodowego na Międzynarodowych Targach Rolniczych SIAM w Meknes w Maroku.  \nMiędzynarodowe Targi Rolnicze SIAM to największe targi rolno-spożywcze w Maroku\, a jednocześnie największe tego typu wydarzenie organizowane w Afryce. \nZapraszamy do odwiedzenia polskiego stoiska oraz do śledzenia relacji z wydarzenia na naszej stronie oraz na profilu Poland tastes good na platformach Facebook i LinkedIn. \n  \nKATALOG WYSTAWCÓW
URL:https://www.polandtastesgood.pl/pl/wydarzenie/siam-maroko-2026-polskie-stoisko-narodowe/
LOCATION:School of Horticulture – Jnane Ben Hlima\, 50 000 Meknes\, Morocco\, Jnane Ben Hlima\, Meknes\, 50000\, Morocco
CATEGORIES:SIAM
ATTACH;FMTTYPE=image/jpeg:https://www.polandtastesgood.pl/wp-content/uploads/2026/02/Meknes-scaled.jpeg
END:VEVENT
BEGIN:VEVENT
DTSTART;TZID=Europe/Warsaw:20260421T100000
DTEND;TZID=Europe/Warsaw:20260424T180000
DTSTAMP:20260424T070800
CREATED:20251007T120952Z
LAST-MODIFIED:20260407T114831Z
UID:32300-1776765600-1777053600@www.polandtastesgood.pl
SUMMARY:FHA (Food & Hospitality Asia) 2026 - polskie stoisko narodowe w Singapurze
DESCRIPTION:Krajowy Ośrodek Wsparcia Rolnictwa planuje organizację polskiego stoiska narodowego na targach FHA (Food & Hospitality Asia)\, które odbędą się w dniach 21-24 kwietnia 2026 r. w Singapurze. \nTargi FHA należą do największych i najważniejszych targów spożywczych w Południowo-Wschodniej Azji. Udział w targach stanowi doskonałą okazję do nawiązania kontaktów biznesowych z potencjalnymi kontrahentami\, zarówno z Singapuru\, jak i z innych krajów świata. \nZapraszamy do odwiedzenia polskiego stoiska oraz do śledzenia relacji z wydarzenia na naszej stronie oraz na profilu Poland Tastes Good na platformach Facebook i LinkedIn. \n  \nFHA Singapur 2026 – KATALOG WYSTAWCÓW \nFHA Singapur 2026 – KATALOG WYSTAWCÓW (PDF)
URL:https://www.polandtastesgood.pl/pl/wydarzenie/fha-food-hospitality-asia-2026-polskie-stoisko-narodowe-w-singapurze/
LOCATION:Singapore Expo\, 1 Expo Drive\, Singapore Expo\, Singapore\, 486150\, Singapore
CATEGORIES:FHA
ATTACH;FMTTYPE=image/jpeg:https://www.polandtastesgood.pl/wp-content/uploads/2025/02/AdobeStock_262484380-SINGAPORE-scaled.jpeg
END:VEVENT
BEGIN:VEVENT
DTSTART;TZID=Europe/Warsaw:20260429T090000
DTEND;TZID=Europe/Warsaw:20260501T170000
DTSTAMP:20260424T070800
CREATED:20260127T142757Z
LAST-MODIFIED:20260304T092300Z
UID:33817-1777453200-1777654800@www.polandtastesgood.pl
SUMMARY:SIAL Canada 2026 - polskie stoisko narodowe
DESCRIPTION:Krajowy Ośrodek Wsparcia Rolnictwa planuje organizację polskiego stoiska narodowego na targach SIAL Canada\, które odbędą się w dniach 29 kwietnia – 1 maja 2026 r. w Montrealu w Kanadzie. \nTargi SIAL Canada to jedna z największych i najbardziej prestiżowych imprez targowo-wystawienniczych w branży żywności i napojów w Kanadzie oraz w całej Ameryce Północnej. SIAL Canada to miejsce spotkań nie tylko z kanadyjskimi przedstawicielami branży spożywczej\, ale także możliwość poznania kontrahentów z całego kontynentu amerykańskiego i innych regionów świata. Targi przyciągają ponad 1.000 wystawców z Kanady i ponad 40 krajów oraz goszczą ponad 21.000 zwiedzających z Kanady\, USA i około 70 innych krajów. SIAL Canada to jedyne targi w Kanadzie\, które skupiają pod jednym dachem kompletną ofertę produktów spożywczych. \nZapraszamy do odwiedzenia polskiego stoiska oraz do śledzenia relacji z wydarzenia na naszej stronie oraz na profilach Poland Tastes Good na platformach Facebook i LinkedIn. \n  \nSIAL CANADA 2026 – KATALOG WYSTAWCÓW (EN)
URL:https://www.polandtastesgood.pl/pl/wydarzenie/sial-canada-2026-polskie-stoisko-narodowe/
LOCATION:Palais des Congrès de Montréal\, 1001 Pl. Jean-Paul-Riopelle\, Montréal\, QC H2Z 1H5\, Canada
CATEGORIES:SIAL Canada
ATTACH;FMTTYPE=image/jpeg:https://www.polandtastesgood.pl/wp-content/uploads/2026/01/Montreal_AdobeStock_1046086513-scaled.jpeg
END:VEVENT
BEGIN:VEVENT
DTSTART;TZID=Europe/Warsaw:20260511T100000
DTEND;TZID=Europe/Warsaw:20260514T180000
DTSTAMP:20260424T070800
CREATED:20251008T092230Z
LAST-MODIFIED:20251008T092230Z
UID:32315-1778493600-1778781600@www.polandtastesgood.pl
SUMMARY:TUTTOFOOD 2026 – polskie stoisko narodowe w Mediolanie
DESCRIPTION:Krajowy Ośrodek Wsparcia Rolnictwa planuje organizację polskiego stoiska narodowego na targach TUTTOFOOD 2026\, które odbędą się w dniach 11-14 maja 2026 r. w Mediolanie we Włoszech. \nTargi TUTTOFOOD należą do największych i najważniejszych wydarzeń branży spożywczej we Włoszech. Wydarzenie to stanowi doskonałą okazję do nawiązania nowych kontaktów biznesowych z potencjalnymi kontrahentami z Włoch oraz z Europy Południowej. \nZapraszamy do odwiedzenia polskiego stoiska oraz do śledzenia relacji z wydarzenia na naszej stronie oraz na profilu Poland tastes good na platformach Facebook i LinkedIn.
URL:https://www.polandtastesgood.pl/pl/wydarzenie/tuttofood-2026-polskie-stoisko-narodowe-w-mediolanie/
LOCATION:Fiera Milano\, Strada Statale Sempione 28\, Rho MI\, 20017\, Italy
CATEGORIES:Tutto Food
ATTACH;FMTTYPE=image/png:https://www.polandtastesgood.pl/wp-content/uploads/2025/10/mediolan.png
END:VEVENT
BEGIN:VEVENT
DTSTART;TZID=Europe/Warsaw:20260518T090000
DTEND;TZID=Europe/Warsaw:20260520T170000
DTSTAMP:20260424T070800
CREATED:20260128T150921Z
LAST-MODIFIED:20260128T151233Z
UID:33839-1779094800-1779296400@www.polandtastesgood.pl
SUMMARY:SIAL Shanghai 2026 - polskie stoisko narodowe
DESCRIPTION:Krajowy Ośrodek Wsparcia Rolnictwa planuje organizację polskiego stoiska narodowego na targach SIAL Shanghai\, odbywających się w dniach 18-20 maja 2026 r. w Szanghaju w Chinach. \nTargi SIAL Shanghai to jedna z największych i najbardziej prestiżowych imprez targowo- wystawienniczych w branży produktów spożywczych nie tylko w Azji\, ale także na świecie. SIAL Shanghai przyciąga wystawców z całego świata\, którzy reprezentują wszystkie sektory branży spożywczej. Wśród nich znajdują się m.in. producenci żywności\, napoi\, słodyczy oraz przekąsek. Targi stanowią doskonałą okazję do poznania najnowszych trendów w branży\, nawiązania nowych kontaktów biznesowych i zdobycia nowych rynków zbytu. SIAL Shanghai to ważne miejsce dla eksporterów planujących wejście na rynek chiński\, ale także inne rynki regionu. \nZapraszamy do odwiedzenia polskiego stoiska oraz do śledzenia relacji z wydarzenia na naszej stronie oraz na profilu Poland tastes good na platformach Facebook i LinkedIn.
URL:https://www.polandtastesgood.pl/pl/wydarzenie/sial-shanghai-2026-polskie-stoisko-narodowe/
LOCATION:Shanghai New International Expo Center\, Shanghai New International Expo Center\, Shanghai\, 2345 Longyang Rd\, Shi Ji Gong Yuan\, Pudong\, Shanghai\, Chiny\, China
CATEGORIES:SIAL Shanghai
ATTACH;FMTTYPE=image/jpeg:https://www.polandtastesgood.pl/wp-content/uploads/2025/03/AdobeStock_213564648-1-1-scaled.jpeg
END:VEVENT
BEGIN:VEVENT
DTSTART;TZID=Europe/Warsaw:20260519T090000
DTEND;TZID=Europe/Warsaw:20260520T170000
DTSTAMP:20260424T070800
CREATED:20260130T145358Z
LAST-MODIFIED:20260130T145358Z
UID:33915-1779181200-1779296400@www.polandtastesgood.pl
SUMMARY:PLMA Amsterdam 2026 – polskie stoisko narodowe
DESCRIPTION:Krajowy Ośrodek Wsparcia Rolnictwa planuje organizację polskiego stoiska narodowego na targach spożywczych PLMA (World of Private Label International Trade Show)\, które odbędą się w dniach 19-20 maja 2026 r. w Amsterdamie w Niderlandach. \nPLMA „World of Private Label” to wiodące targi poświęcone produktom marki własnej. Wydarzenie gromadzi producentów\, detalistów i profesjonalistów z całego świata. Stanowi kluczową platformę do prezentacji innowacji\, trendów i strategii w zakresie rozwoju marek własnych. \nZapraszamy do odwiedzenia naszego stoiska oraz do śledzenia relacji z wydarzenia na naszej stronie oraz na profilu Poland tastes good w serwisach Facebook i LinkedIn.
URL:https://www.polandtastesgood.pl/pl/wydarzenie/plma-amsterdam-2026-polskie-stoisko-narodowe/
LOCATION:RAI Amsterdam Convention Centre\, RAI Amsterdam\, Europaplein 24\, Amsterdam\, 1078 GZ\, Netherlands
CATEGORIES:PLMA Amsterdam
ATTACH;FMTTYPE=image/jpeg:https://www.polandtastesgood.pl/wp-content/uploads/2025/12/buildings-6778915_1280.jpg
END:VEVENT
BEGIN:VEVENT
DTSTART;VALUE=DATE:20260526
DTEND;VALUE=DATE:20260531
DTSTAMP:20260424T070800
CREATED:20260320T135726Z
LAST-MODIFIED:20260320T135756Z
UID:35588-1779753600-1780185599@www.polandtastesgood.pl
SUMMARY:THAIFEX ANUGA ASIA 2026 – polskie stoisko narodowe
DESCRIPTION:Krajowy Ośrodek Wsparcia Rolnictwa planuje organizację polskiego stoiska narodowego na targach Thaifex – Anuga Asia\, które odbędą się w dniach 26 – 30 maja  2026 r. w Bangkoku w Tajlandii. \nTargi te należą do największych i najważniejszych targów spożywczych w Tajlandii oraz w regionie. Targi Thaifex – Anuga Asia stanowią doskonałą okazję do nawiązania nowych kontaktów biznesowych i promocji polskich przedsiębiorstw na rynku Tajlandii oraz sąsiednich krajów. \nZapraszamy do odwiedzenia naszego stoiska oraz do śledzenia relacji z wydarzenia na naszej stronie oraz na profilu Poland tastes good na Facebook i LinkedIn.
URL:https://www.polandtastesgood.pl/pl/wydarzenie/thaifex-anuga-asia-2026-polskie-stoisko-narodowe/
LOCATION:IMPACT MUANG THONG THANI\, Bangkok\, 99 Popular Road\, Banmai Subdistrict Pakkred District\, Nonthaburi 11120\, Thailand
CATEGORIES:THAIFEX ANUGA ASIA
ATTACH;FMTTYPE=image/png:https://www.polandtastesgood.pl/wp-content/uploads/2026/01/bangkok2.png
END:VEVENT
BEGIN:VEVENT
DTSTART;VALUE=DATE:20260609
DTEND;VALUE=DATE:20260612
DTSTAMP:20260424T070800
CREATED:20260414T093954Z
LAST-MODIFIED:20260414T094147Z
UID:36058-1780963200-1781222399@www.polandtastesgood.pl
SUMMARY:Food & Beverage West Africa 2026 – polskie stoisko narodowe
DESCRIPTION:Krajowy Ośrodek Wsparcia Rolnictwa planuje w dniach 9-11 czerwca 2026 r. organizację polskiego stoiska narodowego podczas targów Food & Beverage West Africa\, w Lagos w Nigerii. \nTargi FOOD & BEVERAGE WEST AFRICA to obecnie jedno z największych wydarzeń wystawienniczych branży spożywczej i napojów na kontynencie afrykańskim\, które stanowi pomost do największych rynków konsumenckich w Afryce\, oferując bezpośredni dostęp do partnerów biznesowych w regionie. \nZapraszamy do odwiedzenia polskiego stoiska oraz do śledzenia relacji z wydarzenia na naszej stronie oraz na profilu Poland Tastes Good na platformach Facebook i LinkedIn.
URL:https://www.polandtastesgood.pl/pl/wydarzenie/food-beverage-west-africa-2026-polskie-stoisko-narodowe/
LOCATION:Landmark Centre\, Plot 2 & 3\, Water Corporation Dr\, Lagos\, Victoria Island\, 106104\, Nigeria
CATEGORIES:Food Beverage West Africa
ATTACH;FMTTYPE=image/jpeg:https://www.polandtastesgood.pl/wp-content/uploads/2026/02/Nigeria_Lagos-scaled.jpeg
END:VEVENT
BEGIN:VEVENT
DTSTART;VALUE=DATE:20260609
DTEND;VALUE=DATE:20260613
DTSTAMP:20260424T070800
CREATED:20260320T144331Z
LAST-MODIFIED:20260320T144411Z
UID:35600-1780963200-1781308799@www.polandtastesgood.pl
SUMMARY:SEOUL FOOD & HOTEL 2026 - polskie stoisko narodowe
DESCRIPTION:Krajowy Ośrodek Wsparcia Rolnictwa planuje organizację polskiego stoiska narodowego na targach SEOUL FOOD&HOTEL\, które odbędą się w dniach 9-12 czerwca 2026 r. w Seulu w Korei Płd. \nWydarzenie cieszy się dużym zainteresowaniem przedsiębiorców z branży spożywczej z całego świata. \nZapraszamy do odwiedzenia polskiego stoiska oraz do śledzenia relacji z wydarzenia na naszej stronie oraz na profilu Poland Tastes Good na Facebooku.
URL:https://www.polandtastesgood.pl/pl/wydarzenie/seoul-food-hotel-2026-polskie-stoisko-narodowe/
LOCATION:KINTEX Korea International Exhibition Center\, KINTEX Korea International Exhibition Center\, Seoul\, 217-59 Kintekseu-ro\, Daehwa-dong\, Ilsanseo-gu\, Goyang-si\, Gyeonggi-do\, Korea Południowa\, Korea\, Democratic People's Republic of
CATEGORIES:Seoul Food&Hotel
ATTACH;FMTTYPE=image/jpeg:https://www.polandtastesgood.pl/wp-content/uploads/2025/05/SEOUL-AdobeStock_313112677-scaled.jpeg
END:VEVENT
BEGIN:VEVENT
DTSTART;VALUE=DATE:20260610
DTEND;VALUE=DATE:20260613
DTSTAMP:20260424T070800
CREATED:20260320T150032Z
LAST-MODIFIED:20260320T150032Z
UID:35613-1781049600-1781308799@www.polandtastesgood.pl
SUMMARY:THE AFRICA FOOD SHOW 2026 – polskie stoisko narodowe
DESCRIPTION:Krajowy Ośrodek Wsparcia Rolnictwa planuje organizację polskiego stoiska narodowego na targach The Africa Food Show\, odbywających się w dniach 10-12 czerwca 2026 r. w Kapsztadzie w RPA. \nTargi te to największe wydarzenie z branży spożywczej w Afryce Południowej\, skupiające wystawców i zwiedzających z wszystkich krajów regionu. \nZapraszamy do odwiedzenia polskiego stoiska oraz do śledzenia relacji z wydarzenia na naszej stronie oraz na profilu Poland tastes good na Facebook i LinkedIn.
URL:https://www.polandtastesgood.pl/pl/wydarzenie/the-africa-food-show-2026-polskie-stoisko-narodowe/
LOCATION:CTICC\, Cape Town\, South Africa\, CTICC\, Cape Town\, South Africa
CATEGORIES:AFRICA FOOD SHOW
ATTACH;FMTTYPE=image/jpeg:https://www.polandtastesgood.pl/wp-content/uploads/2026/02/RPA-scaled.jpeg
END:VEVENT
BEGIN:VEVENT
DTSTART;VALUE=DATE:20260729
DTEND;VALUE=DATE:20260802
DTSTAMP:20260424T070800
CREATED:20260413T092603Z
LAST-MODIFIED:20260413T094046Z
UID:36377-1785283200-1785628799@www.polandtastesgood.pl
SUMMARY:WOFEX – WORLD FOOD EXPO 2026 – polskie stoisko narodowe
DESCRIPTION:Krajowy Ośrodek Wsparcia Rolnictwa planuje w dniach 29.07-01.08.2026 r. organizację polskiego stoiska narodowego podczas targów WOFEX – World Food Expo 2026 w Manili na Filipinach. \nWOFEX – World Food Expo 2026 to jedno z najbardziej prestiżowych wydarzeń branży spożywczej i HoReca w Azji. \nZapraszamy do odwiedzenia polskiego stoiska oraz do śledzenia relacji z wydarzenia na naszej stronie oraz na profilu Poland Tastes Good na platformach Facebook i LinkedIn.
URL:https://www.polandtastesgood.pl/pl/wydarzenie/wofex-world-food-expo-2026-polskie-stoisko-narodowe/
LOCATION:World Trade Center Manila\, WTCMM Building\, Pasay Extension corner\, 1300 Sen. Gil J. Puyat Ave\, Manila\, Philippines
CATEGORIES:WOFEX
ATTACH;FMTTYPE=image/jpeg:https://www.polandtastesgood.pl/wp-content/uploads/2025/10/AdobeStock_282053305-zdjecie-Manila-scaled.jpeg
END:VEVENT
BEGIN:VEVENT
DTSTART;VALUE=DATE:20260806
DTEND;VALUE=DATE:20260809
DTSTAMP:20260424T070800
CREATED:20260413T075257Z
LAST-MODIFIED:20260413T075257Z
UID:36358-1785974400-1786233599@www.polandtastesgood.pl
SUMMARY:VIETFOOD & BEVERAGE 2026 – polskie stoisko narodowe
DESCRIPTION:Krajowy Ośrodek Wsparcia Rolnictwa planuje zorganizować polskie stoisko narodowe na targach VIETFOOD & BEVERAGE odbywających się w dniach 6-8 sierpnia 2026 r. w Ho Chi Minh City w Wietnamie. \nTargi VIETFOOD & BEVERAGE to największa tego typu branżowa impreza wystawiennicza w Wietnamie. \nZapraszamy do odwiedzenia polskiego stoiska oraz do śledzenia relacji z wydarzenia na naszej stronie oraz na profilu Poland Tastes Good na platformach Facebook i LinkedIn.
URL:https://www.polandtastesgood.pl/pl/wydarzenie/vietfood-beverage-2026-polskie-stoisko-narodowe/
LOCATION:799 Nguyễn Văn Linh\, Quận 7\, Tp. Hồ Chí Minh\, 799 Nguyễn Văn Linh\,\, Hồ Chí Minh\, Viet Nam
CATEGORIES:Vietfood and Beverage
ATTACH;FMTTYPE=image/jpeg:https://www.polandtastesgood.pl/wp-content/uploads/2026/02/Vietnam.jpg
END:VEVENT
BEGIN:VEVENT
DTSTART;VALUE=DATE:20260831
DTEND;VALUE=DATE:20260904
DTSTAMP:20260424T070800
CREATED:20260413T112120Z
LAST-MODIFIED:20260413T112120Z
UID:36418-1788134400-1788479999@www.polandtastesgood.pl
SUMMARY:FINE FOOD AUSTRALIA 2026 - polskie stoisko narodowe
DESCRIPTION:Krajowy Ośrodek Wsparcia Rolnictwa planuje organizację polskiego stoiska narodowego na targach Fine Food Australia 2026\, odbywających się w dniach 31 sierpnia – 3 września 2026 r. w Melbourne w Australii. \nTargi te to największe wydarzenie z branży spożywczej w Australii\, skupiające wystawców i zwiedzających z regionu Australazji. \nZapraszamy do odwiedzenia polskiego stoiska oraz do śledzenia relacji z wydarzenia na naszej stronie oraz na profilu Poland Tastes Good na platformach Facebook i LinkedIn.
URL:https://www.polandtastesgood.pl/pl/wydarzenie/fine-food-australia-2026-polskie-stoisko-narodowe/
LOCATION:Melbourne Convention and Exhibition Centre\, 1 Convention Centre Pl\, South Wharf VIC 3006\, 1 Convention Centre Pl\, South Wharf VIC 3006\, Melbourne\, Australia
CATEGORIES:Fine Food Australia
ATTACH;FMTTYPE=image/jpeg:https://www.polandtastesgood.pl/wp-content/uploads/2026/02/Melbourne-scaled.jpeg
END:VEVENT
BEGIN:VEVENT
DTSTART;VALUE=DATE:20260929
DTEND;VALUE=DATE:20261002
DTSTAMP:20260424T070800
CREATED:20260413T115250Z
LAST-MODIFIED:20260413T115557Z
UID:36435-1790640000-1790899199@www.polandtastesgood.pl
SUMMARY:Espacio Food Service 2026 - polskie stoisko narodowe na targach
DESCRIPTION:Krajowy Ośrodek Wsparcia Rolnictwa planuje organizację polskiego stoiska narodowego na targach Espacio Food Service 2026\, które odbędą się w dniach 29 września – 1 października 2026 r. w Santiago de Chile. \nESPACIO Food Service to najważniejsze targi spożywcze w Chile. Odwiedzają je kluczowi przedstawiciele branży z sektora hotelarskiego\, restauracyjnego i instytucjonalnego\, a także przedstawiciele supermarketów oraz importerzy i dystrybutorzy dla handlu detalicznego i gastronomii. \nZapraszamy do odwiedzenia polskiego stoiska oraz do śledzenia relacji z wydarzenia na naszej stronie oraz na profilu Poland Tastes Good na platformach Facebook i LinkedIn.
URL:https://www.polandtastesgood.pl/pl/wydarzenie/espacio-food-service-2026-polskie-stoisko-narodowe-na-targach/
LOCATION:Centro de Eventos y Convenciones\, Av. El Salto 5000\, 8440000 Huechuraba\, Santiago de Chile\, Chile
ATTACH;FMTTYPE=image/png:https://www.polandtastesgood.pl/wp-content/uploads/2026/03/chile5.png
END:VEVENT
BEGIN:VEVENT
DTSTART;TZID=Europe/Warsaw:20261017T100000
DTEND;TZID=Europe/Warsaw:20261021T180000
DTSTAMP:20260424T070800
CREATED:20250806T134200Z
LAST-MODIFIED:20250807T134515Z
UID:31108-1792231200-1792605600@www.polandtastesgood.pl
SUMMARY:SIAL PARIS 2026 – polskie stoisko narodowe
DESCRIPTION:Krajowy Ośrodek Wsparcia Rolnictwa planuje organizację polskiego stoiska narodowego na targach SIAL Paris\, odbywających się w dniach 17-21 października 2026 r. w Paryżu we Francji. \nTargi SIAL Paris należą do najważniejszych wydarzeń targowych z branży spożywczej na świecie. Targom towarzyszą liczne wydarzenia dodatkowe\, takie jak konkursy\, konferencje i pokazy kulinarne. \nZapraszamy do odwiedzenia polskiego stoiska oraz do śledzenia relacji z wydarzenia na naszej stronie oraz na profilu Poland Tastes Good w serwisach Facebook i LinkedIn.
URL:https://www.polandtastesgood.pl/pl/wydarzenie/sial-paris-2026-polskie-stoisko-narodowe/
LOCATION:Parc des Expositions de Paris-Nord Villepinte\, Parc des Expositions de Paris-Nord Villepinte\, Paris\, 93420\, France
CATEGORIES:SIAL PARIS
ATTACH;FMTTYPE=image/png:https://www.polandtastesgood.pl/wp-content/uploads/2025/08/paryz1.png
END:VEVENT
BEGIN:VEVENT
DTSTART;VALUE=DATE:20261111
DTEND;VALUE=DATE:20261114
DTSTAMP:20260424T070800
CREATED:20260414T080437Z
LAST-MODIFIED:20260414T080623Z
UID:36447-1794355200-1794614399@www.polandtastesgood.pl
SUMMARY:FoodExpo Qazaqstan 2026 - polskie stoisko narodowe
DESCRIPTION:Krajowy Ośrodek Wsparcia Rolnictwa planuje organizację polskiego stoiska narodowego na targach Central Asian International Exhibition – FoodExpo Qazaqstan 2026\, które odbędą się w dniach 11-13 listopada 2026 r. w Ałmaty w Kazachstanie. \nWydarzenie to jest ważnym miejscem spotkań dla branży spożywczej regionu Azji Środkowej\, w tym producentów\, dystrybutorów\, hurtowników\, sprzedawców detalicznych i restauratorów. \nZapraszamy do odwiedzenia polskiego stoiska oraz do śledzenia relacji z wydarzenia na naszej stronie oraz na profilu Poland Tastes Good na platformach Facebook i LinkedIn.
URL:https://www.polandtastesgood.pl/pl/wydarzenie/foodexpo-qazaqstan-2026-polskie-stoisko-narodowe/
LOCATION:Aatakent exhibition complex\, Timiryazev St 42\, Almaty\, 050057\, Kazakhstan
CATEGORIES:Food Expo Kazachstan
ATTACH;FMTTYPE=image/jpeg:https://www.polandtastesgood.pl/wp-content/uploads/2025/04/AdobeStock_170495868-scaled.jpeg
END:VEVENT
BEGIN:VEVENT
DTSTART;VALUE=DATE:20261115
DTEND;VALUE=DATE:20261118
DTSTAMP:20260424T070800
CREATED:20260414T081508Z
LAST-MODIFIED:20260414T081508Z
UID:36454-1794700800-1794959999@www.polandtastesgood.pl
SUMMARY:PLMA Private Label Trade Show Chicago 2026 - polskie stoisko narodowe
DESCRIPTION:Krajowy Ośrodek Wsparcia Rolnictwa planuje organizację polskiego stoiska narodowego na targach spożywczych PLMA Private Label Trade Show\, które odbędą się w dniach 15-17 listopada 2026 r. w Chicago w Stanach Zjednoczonych. \nWydarzenie jest organizowane od ponad 40 lat i posiada znaczącą rangę w branży spożywczej na świecie\, uznawane jest za największe targi marek własnych na kontynencie amerykańskim. \nZapraszamy do odwiedzenia polskiego stoiska oraz do śledzenia relacji z wydarzenia na naszej stronie oraz na profilu Poland Tastes Good na platformach Facebook i LinkedIn.
URL:https://www.polandtastesgood.pl/pl/wydarzenie/plma-private-label-trade-show-chicago-2026-polskie-stoisko-narodowe/
LOCATION:Donald E. Stephens Convention Center\, 5555 N. River Rd\, Chicago\, Illinois\, 60018\, United States
CATEGORIES:PLMA Chicago
ATTACH;FMTTYPE=image/jpeg:https://www.polandtastesgood.pl/wp-content/uploads/2025/04/buildings-1804479_1280.jpg
END:VEVENT
BEGIN:VEVENT
DTSTART;VALUE=DATE:20261207
DTEND;VALUE=DATE:20261211
DTSTAMP:20260424T070800
CREATED:20260414T082757Z
LAST-MODIFIED:20260414T082757Z
UID:36461-1796601600-1796947199@www.polandtastesgood.pl
SUMMARY:Food Africa 2026 - polskie stoisko narodowe na targach w Kairze
DESCRIPTION:Krajowy Ośrodek Wsparcia Rolnictwa planuje organizację polskiego stoiska narodowego na targach Food Africa\, odbywających się w dniach 7-10 grudnia 2026 r. w Kairze w Egipcie. \nTargi te to największe wydarzenie z branży spożywczej w Afryce Północnej\, skupiające wystawców i zwiedzających z wszystkich krajów regionu. \nZapraszamy do odwiedzenia polskiego stoiska oraz do śledzenia relacji z wydarzenia na naszej stronie oraz na profilu Poland Tastes Good na platformach Facebook i LinkedIn.
URL:https://www.polandtastesgood.pl/pl/wydarzenie/food-africa-2026-polskie-stoisko-narodowe-na-targach-w-kairze/
LOCATION:Egypt International Exhibition Center – EIEC\, Egypt International Exhibition Center - EIEC\, Cairo\, بجوار جامع المشير طنطاوى، El-Moshir Tantawy Axis\, Al Hay Al Asher\, Nasr City\, Cairo Governorate\, Egipt\, Egypt
CATEGORIES:Food Africa Cairo
ATTACH;FMTTYPE=image/jpeg:https://www.polandtastesgood.pl/wp-content/uploads/2025/07/AdobeStock_266183405-scaled.jpeg
END:VEVENT
BEGIN:VEVENT
DTSTART;VALUE=DATE:20261215
DTEND;VALUE=DATE:20261219
DTSTAMP:20260424T070800
CREATED:20260414T084721Z
LAST-MODIFIED:20260414T084721Z
UID:36467-1797292800-1797638399@www.polandtastesgood.pl
SUMMARY:World Food Istanbul 2026 – polskie stoisko narodowe
DESCRIPTION:Krajowy Ośrodek Wsparcia Rolnictwa planuje w dniach 15-18.12.2026 r. organizację polskiego stoiska narodowego podczas targów World Food Istanbul 2026 w Istambule w Turcji. \nTargi World Food Istanbul to idealne miejsce dla firm zagranicznych\, które chcą poznać turecki sektor spożywczy\, nawiązać kontakty z ważnymi osobistościami branży i nabywcami oraz promować swoje produkty na nowym rynku. \nZapraszamy do odwiedzenia polskiego stoiska oraz do śledzenia relacji z wydarzenia na naszej stronie oraz na profilu Poland Tastes Good na platformach Facebook i LinkedIn.
URL:https://www.polandtastesgood.pl/pl/wydarzenie/world-food-istanbul-2026-polskie-stoisko-narodowe/
LOCATION:IFM -Istanbul Expo Center\, Yeşilköy Istanbul\, Yeşilköy\, Fuar Merkezi\, 34149 Bakırköy/İstanbul\, Yeşilköy Istanbul\, Yeşilköy\, Fuar Merkezi\, 34149 Bakırköy/İstanbul\, İstanbul\, Turkey
CATEGORIES:WorldFood Istanbul
ATTACH;FMTTYPE=image/jpeg:https://www.polandtastesgood.pl/wp-content/uploads/2026/04/Istanbul-scaled.jpeg
END:VEVENT
END:VCALENDAR